BEGIN:VCALENDAR
VERSION:2.0
PRODID:-//Cub Scouts Pack 802 - ECPv6.15.20//NONSGML v1.0//EN
CALSCALE:GREGORIAN
METHOD:PUBLISH
X-WR-CALNAME:Cub Scouts Pack 802
X-ORIGINAL-URL:https://pack802md.com
X-WR-CALDESC:Events for Cub Scouts Pack 802
REFRESH-INTERVAL;VALUE=DURATION:PT1H
X-Robots-Tag:noindex
X-PUBLISHED-TTL:PT1H
BEGIN:VTIMEZONE
TZID:America/New_York
BEGIN:DAYLIGHT
TZOFFSETFROM:-0500
TZOFFSETTO:-0400
TZNAME:EDT
DTSTART:20230312T070000
END:DAYLIGHT
BEGIN:STANDARD
TZOFFSETFROM:-0400
TZOFFSETTO:-0500
TZNAME:EST
DTSTART:20231105T060000
END:STANDARD
BEGIN:DAYLIGHT
TZOFFSETFROM:-0500
TZOFFSETTO:-0400
TZNAME:EDT
DTSTART:20240310T070000
END:DAYLIGHT
BEGIN:STANDARD
TZOFFSETFROM:-0400
TZOFFSETTO:-0500
TZNAME:EST
DTSTART:20241103T060000
END:STANDARD
BEGIN:DAYLIGHT
TZOFFSETFROM:-0500
TZOFFSETTO:-0400
TZNAME:EDT
DTSTART:20250309T070000
END:DAYLIGHT
BEGIN:STANDARD
TZOFFSETFROM:-0400
TZOFFSETTO:-0500
TZNAME:EST
DTSTART:20251102T060000
END:STANDARD
END:VTIMEZONE
BEGIN:VEVENT
DTSTART;TZID=America/New_York:20240211T100000
DTEND;TZID=America/New_York:20240211T120000
DTSTAMP:20260422T131945
CREATED:20230904T225724Z
LAST-MODIFIED:20240113T143053Z
UID:22554-1707645600-1707652800@pack802md.com
SUMMARY:Scout Sunday - Grove
DESCRIPTION:Join us on Sunday\, February 11th at Grove for Scout Sunday. \nWe ask the scouts come at 10:00am to “meet and greet” the congregation.  Service will be from 10:30-11:30.  Following the service the congregation would like to celebrate the scouts by having snacks in the fellowship hall.  Please dress in your class A uniform.  Please sign up below so we can tell the church how many will be attending:
URL:https://pack802md.com/event/scout-sunday-grove-3
LOCATION:Grove Presbyterian Church\, 50 East Bel Air Ave\, Aberdeen\, MD\, 21001\, United States
CATEGORIES:Pack Event (Other),Religious
ATTACH;FMTTYPE=image/png:https://pack802md.com/wp-content/uploads/2018/12/scout-sunday.png
END:VEVENT
END:VCALENDAR