BEGIN:VCALENDAR
VERSION:2.0
PRODID:-//Cub Scouts Pack 802 - ECPv6.15.20//NONSGML v1.0//EN
CALSCALE:GREGORIAN
METHOD:PUBLISH
X-WR-CALNAME:Cub Scouts Pack 802
X-ORIGINAL-URL:https://pack802md.com
X-WR-CALDESC:Events for Cub Scouts Pack 802
REFRESH-INTERVAL;VALUE=DURATION:PT1H
X-Robots-Tag:noindex
X-PUBLISHED-TTL:PT1H
BEGIN:VTIMEZONE
TZID:America/New_York
BEGIN:DAYLIGHT
TZOFFSETFROM:-0500
TZOFFSETTO:-0400
TZNAME:EDT
DTSTART:20230312T070000
END:DAYLIGHT
BEGIN:STANDARD
TZOFFSETFROM:-0400
TZOFFSETTO:-0500
TZNAME:EST
DTSTART:20231105T060000
END:STANDARD
BEGIN:DAYLIGHT
TZOFFSETFROM:-0500
TZOFFSETTO:-0400
TZNAME:EDT
DTSTART:20240310T070000
END:DAYLIGHT
BEGIN:STANDARD
TZOFFSETFROM:-0400
TZOFFSETTO:-0500
TZNAME:EST
DTSTART:20241103T060000
END:STANDARD
BEGIN:DAYLIGHT
TZOFFSETFROM:-0500
TZOFFSETTO:-0400
TZNAME:EDT
DTSTART:20250309T070000
END:DAYLIGHT
BEGIN:STANDARD
TZOFFSETFROM:-0400
TZOFFSETTO:-0500
TZNAME:EST
DTSTART:20251102T060000
END:STANDARD
END:VTIMEZONE
BEGIN:VEVENT
DTSTART;TZID=America/New_York:20240326T183000
DTEND;TZID=America/New_York:20240326T200000
DTSTAMP:20260422T131939
CREATED:20230906T105908Z
LAST-MODIFIED:20230906T105908Z
UID:22667-1711477800-1711483200@pack802md.com
SUMMARY:Bear (3rd Grade) Den Meeting - Grove
DESCRIPTION:The Bear Den will meet to work on Super Science and Grin and Bear It on Tuesday\, March 26th 12th\, at 6:30pm at Grove.
URL:https://pack802md.com/event/bear-3rd-grade-den-meeting-grove-23
LOCATION:Grove Presbyterian Church\, 50 East Bel Air Ave\, Aberdeen\, MD\, 21001\, United States
CATEGORIES:Den Meeting
ATTACH;FMTTYPE=image/jpeg:https://pack802md.com/wp-content/uploads/2020/09/bear.jpg
END:VEVENT
BEGIN:VEVENT
DTSTART;TZID=America/New_York:20240326T183000
DTEND;TZID=America/New_York:20240326T200000
DTSTAMP:20260422T131939
CREATED:20240217T201121Z
LAST-MODIFIED:20240217T201121Z
UID:22832-1711477800-1711483200@pack802md.com
SUMMARY:Scouting for Food
DESCRIPTION:We will be collecting items for Grove’s food pantry during our Scouting for Food event.  Please bring any of the following items by Tuesday March 26th.  Items can be brought to any den meeting. \nCanned vegetables\nCanned fruit\nBoxed Cereal\nPeanut Butter\nJelly\nSpaghetti\nSpaghetti Sauce\n*NOTE: please get items such as jelly & spaghetti sauce in plastic jars not glass containers.
URL:https://pack802md.com/event/scouting-for-food-2
LOCATION:Grove Presbyterian Church\, 50 East Bel Air Ave\, Aberdeen\, MD\, 21001\, United States
CATEGORIES:District Event,Pack Event (Other)
ATTACH;FMTTYPE=image/png:https://pack802md.com/wp-content/uploads/2024/02/Screenshot-2024-02-17-at-3.05.27 PM.png
END:VEVENT
END:VCALENDAR