BEGIN:VCALENDAR
VERSION:2.0
PRODID:-//Cub Scouts Pack 802 - ECPv6.15.20//NONSGML v1.0//EN
CALSCALE:GREGORIAN
METHOD:PUBLISH
X-WR-CALNAME:Cub Scouts Pack 802
X-ORIGINAL-URL:https://pack802md.com
X-WR-CALDESC:Events for Cub Scouts Pack 802
REFRESH-INTERVAL;VALUE=DURATION:PT1H
X-Robots-Tag:noindex
X-PUBLISHED-TTL:PT1H
BEGIN:VTIMEZONE
TZID:America/New_York
BEGIN:DAYLIGHT
TZOFFSETFROM:-0500
TZOFFSETTO:-0400
TZNAME:EDT
DTSTART:20230312T070000
END:DAYLIGHT
BEGIN:STANDARD
TZOFFSETFROM:-0400
TZOFFSETTO:-0500
TZNAME:EST
DTSTART:20231105T060000
END:STANDARD
BEGIN:DAYLIGHT
TZOFFSETFROM:-0500
TZOFFSETTO:-0400
TZNAME:EDT
DTSTART:20240310T070000
END:DAYLIGHT
BEGIN:STANDARD
TZOFFSETFROM:-0400
TZOFFSETTO:-0500
TZNAME:EST
DTSTART:20241103T060000
END:STANDARD
BEGIN:DAYLIGHT
TZOFFSETFROM:-0500
TZOFFSETTO:-0400
TZNAME:EDT
DTSTART:20250309T070000
END:DAYLIGHT
BEGIN:STANDARD
TZOFFSETFROM:-0400
TZOFFSETTO:-0500
TZNAME:EST
DTSTART:20251102T060000
END:STANDARD
END:VTIMEZONE
BEGIN:VEVENT
DTSTART;VALUE=DATE:20240412
DTEND;VALUE=DATE:20240415
DTSTAMP:20260422T115129
CREATED:20230904T230641Z
LAST-MODIFIED:20240311T003813Z
UID:22560-1712880000-1713139199@pack802md.com
SUMMARY:Spring Camporee - Camp Oest
DESCRIPTION:We will attend Spring Camporee at Camp Oest.  It will be Friday April 12th to Sunday April 14th.  You can sign up for Camping just Friday night\, Camping just Saturday\, Camping Friday & Saturday or just attending Saturday day events.  The fee is $25 per person to attend. Sign up will close on April 6th; sign up below:
URL:https://pack802md.com/event/spring-camporee-camp-saffran
LOCATION:Camp Oest\, 1800 Robinson Mill Rd\, Darlington\, MD\, 21034
CATEGORIES:District Event,Pack Event (Other)
ATTACH;FMTTYPE=image/png:https://pack802md.com/wp-content/uploads/2023/09/Screenshot-2024-02-17-at-2.46.03 PM.png
END:VEVENT
END:VCALENDAR