BEGIN:VCALENDAR
VERSION:2.0
PRODID:-//Cub Scouts Pack 802 - ECPv6.15.20//NONSGML v1.0//EN
CALSCALE:GREGORIAN
METHOD:PUBLISH
X-WR-CALNAME:Cub Scouts Pack 802
X-ORIGINAL-URL:https://pack802md.com
X-WR-CALDESC:Events for Cub Scouts Pack 802
REFRESH-INTERVAL;VALUE=DURATION:PT1H
X-Robots-Tag:noindex
X-PUBLISHED-TTL:PT1H
BEGIN:VTIMEZONE
TZID:America/New_York
BEGIN:DAYLIGHT
TZOFFSETFROM:-0500
TZOFFSETTO:-0400
TZNAME:EDT
DTSTART:20240310T070000
END:DAYLIGHT
BEGIN:STANDARD
TZOFFSETFROM:-0400
TZOFFSETTO:-0500
TZNAME:EST
DTSTART:20241103T060000
END:STANDARD
BEGIN:DAYLIGHT
TZOFFSETFROM:-0500
TZOFFSETTO:-0400
TZNAME:EDT
DTSTART:20250309T070000
END:DAYLIGHT
BEGIN:STANDARD
TZOFFSETFROM:-0400
TZOFFSETTO:-0500
TZNAME:EST
DTSTART:20251102T060000
END:STANDARD
BEGIN:DAYLIGHT
TZOFFSETFROM:-0500
TZOFFSETTO:-0400
TZNAME:EDT
DTSTART:20260308T070000
END:DAYLIGHT
BEGIN:STANDARD
TZOFFSETFROM:-0400
TZOFFSETTO:-0500
TZNAME:EST
DTSTART:20261101T060000
END:STANDARD
END:VTIMEZONE
BEGIN:VEVENT
DTSTART;TZID=America/New_York:20250107T183000
DTEND;TZID=America/New_York:20250107T200000
DTSTAMP:20260425T083431
CREATED:20240724T153053Z
LAST-MODIFIED:20240724T153053Z
UID:22957-1736274600-1736280000@pack802md.com
SUMMARY:Derby Car Build Day - Grove
DESCRIPTION:Tuesday\, January 7th at 6:30pm we will have a Derby Car Build day at Grove.  Tools will be available as well as help from leaders.
URL:https://pack802md.com/event/derby-car-build-day-grove
LOCATION:Grove Presbyterian Church\, 50 East Bel Air Ave\, Aberdeen\, MD\, 21001\, United States
CATEGORIES:Pack Event (Other)
ATTACH;FMTTYPE=image/jpeg:https://pack802md.com/wp-content/uploads/2021/11/0a0b4affd9ee793487606468b903154253594fe2354311a54f419f6b0c42f75e-rimg-w526-h531-gmir.jpg
END:VEVENT
BEGIN:VEVENT
DTSTART;TZID=America/New_York:20250111T100000
DTEND;TZID=America/New_York:20250111T120000
DTSTAMP:20260425T083431
CREATED:20240724T153432Z
LAST-MODIFIED:20241220T193405Z
UID:22959-1736589600-1736596800@pack802md.com
SUMMARY:Lancaster Science Factory - PA
DESCRIPTION:Save the date.  Saturday January 11th.  This is a pack event to the Lancaster Science Factory in PA.  Our time slot is from 10-12.  Scouts are free.  Leaders with verification are free.  Non-scouts are $11. \nPlease sign up here to let us know you will be coming.  You will pay for your ticket yourself when you get there.  \n 
URL:https://pack802md.com/event/lancaster-science-factory-pa
LOCATION:Maryland
CATEGORIES:Pack Event (Other)
ATTACH;FMTTYPE=image/png:https://pack802md.com/wp-content/uploads/2024/07/Screenshot-2024-07-24-at-11.34.00 AM.png
END:VEVENT
END:VCALENDAR